Workbook

Sheet 様式3-1　付加価値の算出表(No.1～10)
A2: 1 | I2: =A2&"/"&$V$2 -> 1/0 | U2: 商品数 | V2: =COUNTA($C$8)+COUNTA($C$28)+COUNTA($C$51)+COUNTA($C$71)+COUNTA($C$94)+COUNTA($C$114)+COUNTA($C$137)+COUNTA($C$157)+COUNTA($C$180)+COUNTA($C$200) -> 0
B4: 2号、３号付加価値の算出表
H5: 商品価格
B6: 商品名： | H6: 一般販売価格
B7: カテゴリ | C7: 名称 | H7: 地域 | I7: 価格(※)､工賃
B8: 原材料(主要な) | H8: 市内
B9: 原材料(他)
B13: 製造工程 | H13: 市外
H17: 市外合計 | I17: =SUMIF(H8:H16,"市外",I8:I16) -> 0
H18: 市内合計 | I18: =SUMIF(H8:H16,"市内",I8:I16) -> 0
H19: 合計 | I19: =SUM(I17:I18) -> 0
A22: =+A2+1 -> 2 | I22: =IF($V$2<A22,"",A22&"/"&$V$2)
M23: 商品名選択
B24: 2号、３号付加価値の算出表 | L24: 記載例 | M24: シードル(2号) 重量(g)
H25: 商品価格 | L25: ※プルダウンから商品名を選択する記載例が表示されます | R25: 商品価格 | S25: =HLOOKUP($M$24,記入例データ!$B$2:$G$50,$A27+40,FALSE) -> 2500
B26: 商品名： | H26: 一般販売価格 | R26: 一般販売価格 | S26: =HLOOKUP($M$24,記入例データ!$B$2:$G$50,$A28+40,FALSE) -> ―
A27: 2 | B27: カテゴリ | C27: 名称 | H27: 地域 | I27: 価格(※)､工賃 | K27: 2 | L27: カテゴリ | M27: 名称 | R27: 地域 | S27: 価格(※)､工賃
A28: 3 | B28: 原材料(主要な) | K28: 3 | L28: 原材料(主要な) | M28: =HLOOKUP($M$24,記入例データ!$B$2:$G$50,$A27,FALSE) -> りんご | R28: =HLOOKUP($M$24,記入例データ!$B$2:$G$50,$A27+10,FALSE) -> 市内 | S28: =HLOOKUP($M$24,記入例データ!$B$2:$G$50,$A27+30,FALSE) -> 845
A29: 4 | B29: 原材料(他) | K29: 4 | L29: 原材料(他) | M29: =HLOOKUP($M$24,記入例データ!$B$2:$G$50,$A28,FALSE) -> 酸化防止剤 | R29: =HLOOKUP($M$24,記入例データ!$B$2:$G$50,$A28+10,FALSE) -> 市外 | S29: =HLOOKUP($M$24,記入例データ!$B$2:$G$50,$A28+30,FALSE) -> 5
A30: 5 | K30: 5 | M30: =HLOOKUP($M$24,記入例データ!$B$2:$G$50,$A29,FALSE) -> 容器、包材 | R30: =HLOOKUP($M$24,記入例データ!$B$2:$G$50,$A29+10,FALSE) -> 市外 | S30: =HLOOKUP($M$24,記入例データ!$B$2:$G$50,$A29+30,FALSE) -> 150
A31: 6 | K31: 6 | M31: =HLOOKUP($M$24,記入例データ!$B$2:$G$50,$A30,FALSE) | R31: =HLOOKUP($M$24,記入例データ!$B$2:$G$50,$A30+10,FALSE) | S31: =HLOOKUP($M$24,記入例データ!$B$2:$G$50,$A30+30,FALSE)
A32: 7 | K32: 7 | M32: =HLOOKUP($M$24,記入例データ!$B$2:$G$50,$A31,FALSE) | R32: =HLOOKUP($M$24,記入例データ!$B$2:$G$50,$A31+10,FALSE) | S32: =HLOOKUP($M$24,記入例データ!$B$2:$G$50,$A31+30,FALSE)
A33: 8 | B33: 製造工程 | K33: 8 | L33: 製造工程 | M33: =HLOOKUP($M$24,記入例データ!$B$2:$G$50,$A32,FALSE) -> りんごの仕入れ後の全工程、他（管理費、利益等） | R33: =HLOOKUP($M$24,記入例データ!$B$2:$G$50,$A32+10,FALSE) -> 市内 | S33: =HLOOKUP($M$24,記入例データ!$B$2:$G$50,$A32+30,FALSE)
A34: 9 | K34: 9 | M34: =HLOOKUP($M$24,記入例データ!$B$2:$G$50,$A33,FALSE) | R34: =HLOOKUP($M$24,記入例データ!$B$2:$G$50,$A33+10,FALSE) | S34: =HLOOKUP($M$24,記入例データ!$B$2:$G$50,$A33+30,FALSE)
A35: 10 | K35: 10 | M35: =HLOOKUP($M$24,記入例データ!$B$2:$G$50,$A34,FALSE) | R35: =HLOOKUP($M$24,記入例データ!$B$2:$G$50,$A34+10,FALSE) | S35: =HLOOKUP($M$24,記入例データ!$B$2:$G$50,$A34+30,FALSE)
M36: =HLOOKUP($M$24,記入例データ!$B$2:$G$50,$A35,FALSE) | R36: =HLOOKUP($M$24,記入例データ!$B$2:$G$50,$A35+10,FALSE) | S36: =HLOOKUP($M$24,記入例データ!$B$2:$G$50,$A35+30,FALSE)
H37: 市外合計 | I37: =SUMIF(H28:H36,"市外",I28:I36) -> 0 | K37: 7 | R37: 市外合計 | S37: =SUMIF(R28:R36,"市外",S28:S36) -> 155
H38: 市内合計 | I38: =SUMIF(H28:H36,"市内",I28:I36) -> 0 | K38: 8 | R38: 市内合計 | S38: =SUMIF(R28:R36,"市内",S28:S36) -> 845
H39: 合計 | I39: =SUM(I37:I38) -> 0 | K39: 9 | R39: 合計 | S39: =SUM(S37:S38) -> 1000
A45: =+A22+1 -> 3 | I45: =IF($V$2<A45,"",A45&"/"&$V$2)
B47: 2号、３号付加価値の算出表
H48: 商品価格
B49: 商品名： | H49: 一般販売価格
B50: カテゴリ | C50: 名称 | H50: 地域 | I50: 価格(※)､工賃
B51: 原材料(主要な)
B52: 原材料(他)
B56: 製造工程
H60: 市外合計 | I60: =SUMIF(H51:H59,"市外",I51:I59) -> 0
H61: 市内合計 | I61: =SUMIF(H51:H59,"市内",I51:I59) -> 0
H62: 合計 | I62: =SUM(I60:I61) -> 0
A65: =+A45+1 -> 4 | I65: =IF($V$2<A65,"",A65&"/"&$V$2)
B67: 2号、３号付加価値の算出表
H68: 商品価格
B69: 商品名： | H69: 一般販売価格
A70: 2 | B70: カテゴリ | C70: 名称 | H70: 地域 | I70: 価格(※)､工賃
A71: 3 | B71: 原材料(主要な)
A72: 4 | B72: 原材料(他)
A73: 5
A74: 6
A75: 7
A76: 8 | B76: 製造工程
A77: 9
A78: 10
H80: 市外合計 | I80: =SUMIF(H71:H79,"市外",I71:I79) -> 0
H81: 市内合計 | I81: =SUMIF(H71:H79,"市内",I71:I79) -> 0
H82: 合計 | I82: =SUM(I80:I81) -> 0
A88: =+A65+1 -> 5 | I88: =IF($V$2<A88,"",A88&"/"&$V$2)
B90: 2号、３号付加価値の算出表
H91: 商品価格
B92: 商品名： | H92: 一般販売価格
B93: カテゴリ | C93: 名称 | H93: 地域 | I93: 価格(※)､工賃
B94: 原材料(主要な)
B95: 原材料(他)
B99: 製造工程
H103: 市外合計 | I103: =SUMIF(H94:H102,"市外",I94:I102) -> 0
H104: 市内合計 | I104: =SUMIF(H94:H102,"市内",I94:I102) -> 0
H105: 合計 | I105: =SUM(I103:I104) -> 0
A108: =+A88+1 -> 6 | I108: =IF($V$2<A108,"",A108&"/"&$V$2)
B110: 2号、３号付加価値の算出表
H111: 商品価格
B112: 商品名： | H112: 一般販売価格
A113: 2 | B113: カテゴリ | C113: 名称 | H113: 地域 | I113: 価格(※)､工賃
A114: 3 | B114: 原材料(主要な)
A115: 4 | B115: 原材料(他)
A116: 5
A117: 6
A118: 7
A119: 8 | B119: 製造工程
A120: 9
A121: 10
H123: 市外合計 | I123: =SUMIF(H114:H122,"市外",I114:I122) -> 0
H124: 市内合計 | I124: =SUMIF(H114:H122,"市内",I114:I122) -> 0
H125: 合計 | I125: =SUM(I123:I124) -> 0
A131: =+A108+1 -> 7 | I131: =IF($V$2<A131,"",A131&"/"&$V$2)
B133: 2号、３号付加価値の算出表
H134: 商品価格
B135: 商品名： | H135: 一般販売価格
B136: カテゴリ | C136: 名称 | H136: 地域 | I136: 価格(※)､工賃
B137: 原材料(主要な)
B138: 原材料(他)
B142: 製造工程
H146: 市外合計 | I146: =SUMIF(H137:H145,"市外",I137:I145) -> 0
H147: 市内合計 | I147: =SUMIF(H137:H145,"市内",I137:I145) -> 0
H148: 合計 | I148: =SUM(I146:I147) -> 0
A151: =+A131+1 -> 8 | I151: =IF($V$2<A151,"",A151&"/"&$V$2)
B153: 2号、３号付加価値の算出表
H154: 商品価格
B155: 商品名： | H155: 一般販売価格
A156: 2 | B156: カテゴリ | C156: 名称 | H156: 地域 | I156: 価格(※)､工賃
A157: 3 | B157: 原材料(主要な)
...

Sheet 様式3-1　付加価値の算出表(No.11～20)
A2: 11 | I2: =IF($N$2<A2,"",A2&"/"&$N$2) | M2: 商品数 | N2: ='様式3-1 付加価値の算出表(No.1～10)'!$V$2+COUNTA($C$8)+COUNTA($C$28)+COUNTA($C$51)+COUNTA($C$71)+COUNTA($C$94)+COUNTA($C$114)+COUNTA($C$137)+COUNTA($C$157)+COUNTA($C$180)+COUNTA($C$200) -> 0
B4: 2号、３号付加価値の算出表
H5: 商品価格
B6: 商品名： | H6: 一般販売価格
B7: カテゴリ | C7: 名称 | H7: 地域 | I7: 価格(※)､工賃
B8: 原材料(主要な) | H8: 市外
B9: 原材料(他)
B13: 製造工程
H17: 市外合計 | I17: =SUMIF(H8:H16,"市外",I8:I16) -> 0
H18: 市内合計 | I18: =SUMIF(H8:H16,"市内",I8:I16) -> 0
H19: 合計 | I19: =SUM(I17:I18) -> 0
A22: =+A2+1 -> 12 | I22: =IF($N$2<A22,"",A22&"/"&$N$2)
B24: 2号、３号付加価値の算出表
H25: 商品価格
B26: 商品名： | H26: 一般販売価格
A27: 2 | B27: カテゴリ | C27: 名称 | H27: 地域 | I27: 価格(※)､工賃 | K27: 2
A28: 3 | B28: 原材料(主要な) | K28: 3
A29: 4 | B29: 原材料(他) | K29: 4
A30: 5 | K30: 5
A31: 6 | K31: 6
A32: 7 | K32: 7
A33: 8 | B33: 製造工程 | K33: 8
A34: 9 | K34: 9
A35: 10 | K35: 10
H37: 市外合計 | I37: =SUMIF(H28:H36,"市外",I28:I36) -> 0 | K37: 7
H38: 市内合計 | I38: =SUMIF(H28:H36,"市内",I28:I36) -> 0 | K38: 8
H39: 合計 | I39: =SUM(I37:I38) -> 0 | K39: 9
A45: =+A22+1 -> 13 | I45: =IF($N$2<A45,"",A45&"/"&$N$2)
B47: 2号、３号付加価値の算出表
H48: 商品価格
B49: 商品名： | H49: 一般販売価格
B50: カテゴリ | C50: 名称 | H50: 地域 | I50: 価格(※)､工賃
B51: 原材料(主要な)
B52: 原材料(他)
B56: 製造工程
H60: 市外合計 | I60: =SUMIF(H51:H59,"市外",I51:I59) -> 0
H61: 市内合計 | I61: =SUMIF(H51:H59,"市内",I51:I59) -> 0
H62: 合計 | I62: =SUM(I60:I61) -> 0
A65: =+A45+1 -> 14 | I65: =IF($N$2<A65,"",A65&"/"&$N$2)
B67: 2号、３号付加価値の算出表
H68: 商品価格
B69: 商品名： | H69: 一般販売価格
A70: 2 | B70: カテゴリ | C70: 名称 | H70: 地域 | I70: 価格(※)､工賃
A71: 3 | B71: 原材料(主要な)
A72: 4 | B72: 原材料(他)
A73: 5
A74: 6
A75: 7
A76: 8 | B76: 製造工程
A77: 9
A78: 10
H80: 市外合計 | I80: =SUMIF(H71:H79,"市外",I71:I79) -> 0
H81: 市内合計 | I81: =SUMIF(H71:H79,"市内",I71:I79) -> 0
H82: 合計 | I82: =SUM(I80:I81) -> 0
A88: =+A65+1 -> 15 | I88: =IF($N$2<A88,"",A88&"/"&$N$2)
B90: 2号、３号付加価値の算出表
H91: 商品価格
B92: 商品名： | H92: 一般販売価格
B93: カテゴリ | C93: 名称 | H93: 地域 | I93: 価格(※)､工賃
B94: 原材料(主要な)
B95: 原材料(他)
B99: 製造工程
H103: 市外合計 | I103: =SUMIF(H94:H102,"市外",I94:I102) -> 0
H104: 市内合計 | I104: =SUMIF(H94:H102,"市内",I94:I102) -> 0
H105: 合計 | I105: =SUM(I103:I104) -> 0
A108: =+A88+1 -> 16 | I108: =IF($N$2<A108,"",A108&"/"&$N$2)
B110: 2号、３号付加価値の算出表
H111: 商品価格
B112: 商品名： | H112: 一般販売価格
A113: 2 | B113: カテゴリ | C113: 名称 | H113: 地域 | I113: 価格(※)､工賃
A114: 3 | B114: 原材料(主要な)
A115: 4 | B115: 原材料(他)
A116: 5
A117: 6
A118: 7
A119: 8 | B119: 製造工程
A120: 9
A121: 10
H123: 市外合計 | I123: =SUMIF(H114:H122,"市外",I114:I122) -> 0
H124: 市内合計 | I124: =SUMIF(H114:H122,"市内",I114:I122) -> 0
H125: 合計 | I125: =SUM(I123:I124) -> 0
A131: =+A108+1 -> 17 | I131: =IF($N$2<A131,"",A131&"/"&$N$2)
B133: 2号、３号付加価値の算出表
H134: 商品価格
B135: 商品名： | H135: 一般販売価格
B136: カテゴリ | C136: 名称 | H136: 地域 | I136: 価格(※)､工賃
B137: 原材料(主要な)
B138: 原材料(他)
B142: 製造工程
H146: 市外合計 | I146: =SUMIF(H137:H145,"市外",I137:I145) -> 0
H147: 市内合計 | I147: =SUMIF(H137:H145,"市内",I137:I145) -> 0
H148: 合計 | I148: =SUM(I146:I147) -> 0
A151: =+A131+1 -> 18 | I151: =IF($N$2<A151,"",A151&"/"&$N$2)
B153: 2号、３号付加価値の算出表
H154: 商品価格
B155: 商品名： | H155: 一般販売価格
A156: 2 | B156: カテゴリ | C156: 名称 | H156: 地域 | I156: 価格(※)､工賃
A157: 3 | B157: 原材料(主要な)
A158: 4 | B158: 原材料(他)
A159: 5
...

Sheet 様式3-1　付加価値の算出表(No.21～30)
A2: 21 | I2: =IF($N$2<A2,"",A2&"/"&$N$2) | M2: 商品数 | N2: ='様式3-1 付加価値の算出表(No.11～20)'!$N$2+COUNTA($C$8)+COUNTA($C$28)+COUNTA($C$51)+COUNTA($C$71)+COUNTA($C$94)+COUNTA($C$114)+COUNTA($C$137)+COUNTA($C$157)+COUNTA($C$180)+COUNTA($C$200) -> 0
B4: 2号、３号付加価値の算出表
H5: 商品価格
B6: 商品名： | H6: 一般販売価格
B7: カテゴリ | C7: 名称 | H7: 地域 | I7: 価格(※)､工賃
B8: 原材料(主要な)
B9: 原材料(他)
B13: 製造工程
H17: 市外合計 | I17: =SUMIF(H8:H16,"市外",I8:I16) -> 0
H18: 市内合計 | I18: =SUMIF(H8:H16,"市内",I8:I16) -> 0
H19: 合計 | I19: =SUM(I17:I18) -> 0
A22: =+A2+1 -> 22 | I22: =IF($N$2<A22,"",A22&"/"&$N$2)
B24: 2号、３号付加価値の算出表
H25: 商品価格
B26: 商品名： | H26: 一般販売価格
A27: 2 | B27: カテゴリ | C27: 名称 | H27: 地域 | I27: 価格(※)､工賃 | K27: 2
A28: 3 | B28: 原材料(主要な) | K28: 3
A29: 4 | B29: 原材料(他) | K29: 4
A30: 5 | K30: 5
A31: 6 | K31: 6
A32: 7 | K32: 7
A33: 8 | B33: 製造工程 | K33: 8
A34: 9 | K34: 9
A35: 10 | K35: 10
H37: 市外合計 | I37: =SUMIF(H28:H36,"市外",I28:I36) -> 0 | K37: 7
H38: 市内合計 | I38: =SUMIF(H28:H36,"市内",I28:I36) -> 0 | K38: 8
H39: 合計 | I39: =SUM(I37:I38) -> 0 | K39: 9
A45: =+A22+1 -> 23 | I45: =IF($N$2<A45,"",A45&"/"&$N$2)
B47: 2号、３号付加価値の算出表
H48: 商品価格
B49: 商品名： | H49: 一般販売価格
B50: カテゴリ | C50: 名称 | H50: 地域 | I50: 価格(※)､工賃
B51: 原材料(主要な)
B52: 原材料(他)
B56: 製造工程
H60: 市外合計 | I60: =SUMIF(H51:H59,"市外",I51:I59) -> 0
H61: 市内合計 | I61: =SUMIF(H51:H59,"市内",I51:I59) -> 0
H62: 合計 | I62: =SUM(I60:I61) -> 0
A65: =+A45+1 -> 24 | I65: =IF($N$2<A65,"",A65&"/"&$N$2)
B67: 2号、３号付加価値の算出表
H68: 商品価格
B69: 商品名： | H69: 一般販売価格
A70: 2 | B70: カテゴリ | C70: 名称 | H70: 地域 | I70: 価格(※)､工賃
A71: 3 | B71: 原材料(主要な)
A72: 4 | B72: 原材料(他)
A73: 5
A74: 6
A75: 7
A76: 8 | B76: 製造工程
A77: 9
A78: 10
H80: 市外合計 | I80: =SUMIF(H71:H79,"市外",I71:I79) -> 0
H81: 市内合計 | I81: =SUMIF(H71:H79,"市内",I71:I79) -> 0
H82: 合計 | I82: =SUM(I80:I81) -> 0
A88: =+A65+1 -> 25 | I88: =IF($N$2<A88,"",A88&"/"&$N$2)
B90: 2号、３号付加価値の算出表
H91: 商品価格
B92: 商品名： | H92: 一般販売価格
B93: カテゴリ | C93: 名称 | H93: 地域 | I93: 価格(※)､工賃
B94: 原材料(主要な)
B95: 原材料(他)
B99: 製造工程
H103: 市外合計 | I103: =SUMIF(H94:H102,"市外",I94:I102) -> 0
H104: 市内合計 | I104: =SUMIF(H94:H102,"市内",I94:I102) -> 0
H105: 合計 | I105: =SUM(I103:I104) -> 0
A108: =+A88+1 -> 26 | I108: =IF($N$2<A108,"",A108&"/"&$N$2)
B110: 2号、３号付加価値の算出表
H111: 商品価格
B112: 商品名： | H112: 一般販売価格
A113: 2 | B113: カテゴリ | C113: 名称 | H113: 地域 | I113: 価格(※)､工賃
A114: 3 | B114: 原材料(主要な)
A115: 4 | B115: 原材料(他)
A116: 5
A117: 6
A118: 7
A119: 8 | B119: 製造工程
A120: 9
A121: 10
H123: 市外合計 | I123: =SUMIF(H114:H122,"市外",I114:I122) -> 0
H124: 市内合計 | I124: =SUMIF(H114:H122,"市内",I114:I122) -> 0
H125: 合計 | I125: =SUM(I123:I124) -> 0
A131: =+A108+1 -> 27 | I131: =IF($N$2<A131,"",A131&"/"&$N$2)
B133: 2号、３号付加価値の算出表
H134: 商品価格
B135: 商品名： | H135: 一般販売価格
B136: カテゴリ | C136: 名称 | H136: 地域 | I136: 価格(※)､工賃
B137: 原材料(主要な)
B138: 原材料(他)
B142: 製造工程
H146: 市外合計 | I146: =SUMIF(H137:H145,"市外",I137:I145) -> 0
H147: 市内合計 | I147: =SUMIF(H137:H145,"市内",I137:I145) -> 0
H148: 合計 | I148: =SUM(I146:I147) -> 0
A151: =+A131+1 -> 28 | I151: =IF($N$2<A151,"",A151&"/"&$N$2)
B153: 2号、３号付加価値の算出表
H154: 商品価格
B155: 商品名： | H155: 一般販売価格
A156: 2 | B156: カテゴリ | C156: 名称 | H156: 地域 | I156: 価格(※)､工賃
A157: 3 | B157: 原材料(主要な)
A158: 4 | B158: 原材料(他)
A159: 5
...

Sheet 記入例データ
B1: 記載例 | L1: 地域選択 | M1: 市内 | N1: 市外
C2: ハンバーグ(3号) | D2: 電気製品(3号) | E2: りんごジュース(2号) | F2: ウィンナー(2号) | G2: シードル(2号) 重量(g)
B3: C26 | C3: 豚肉 | D3: 部品 | E3: りんご | F3: 豚肉 | G3: りんご
B4: C27 | C4: 小麦粉、調味料の一部 | D4: 部品 | E4: 酸化防止剤 | F4: 小麦粉、調味料、他 | G4: 酸化防止剤
B5: C28 | C5: 醤油、●● | D5: 梱包材 | E5: 梱包材 | F5: 梱包材 | G5: 容器、包材
B6: C29 | C6: 梱包材
B7: C30
B8: C31 | C8: 肉のミンチ | D8: 部品調達、加工、組み立て | E8: りんごの仕入れ後の全工程、他（管理費、利益等） | F8: ウィンナー加工～個別包装 | G8: りんごの仕入れ後の全工程、他（管理費、利益等）
B9: C32 | C9: 調味、成形、焼き上げ及びソースの製造 | D9: 梱包、他（管理費、利益等） | F9: 製品梱包～出荷、他（管理費、利益等）
B10: C33 | C10: 梱包～出荷、他（管理費、利益等）
B11: C34
B13: H26 | C13: 市内 | D13: 市内 | E13: 市内 | F13: 市内 | G13: 市内
B14: H27 | C14: 市外 | D14: 市外 | E14: 市外 | F14: 市外 | G14: 市外
B15: H28 | C15: 市内 | D15: 市外 | E15: 市内 | F15: 市外 | G15: 市外
B16: H29 | C16: 市外
B17: H30
B18: H31 | C18: 市外 | D18: 市内 | E18: 市内 | F18: 市外 | G18: 市内
B19: H32 | C19: 市内 | D19: 市内 | F19: 市内
B20: H33 | C20: 市内
B21: H34
B23: I26
B24: I27 | C24: 東京 | D24: 埼玉､中国 | E24: 東京 | F24: 新潟
B25: I28 | D25: 豊丘村 | F25: 阿智村 | G25: 愛知
B26: I29 | C26: 阿智村
B27: I30
B28: I31 | C28: 豊丘村 | F28: 高森町
B29: I32
B30: I33
B31: I34
B33: J26 | C33: 500 | D33: 2000 | E33: 800 | F33: 1800 | G33: 845
B34: J27 | C34: 50 | D34: 4000 | E34: 20 | F34: 100 | G34: 5
B35: J28 | C35: 30 | D35: 200 | E35: 70 | F35: 100 | G35: 150
B36: J29 | C36: 20
B37: J30
B38: J31 | C38: 700 | D38: 8100 | E38: 610 | F38: 700
B39: J32 | C39: 700 | D39: 700 | F39: 300
B40: J33 | C40: 200
B41: J34
B43: J23 | C43: 2200 | D43: 15000 | E43: 1500 | F43: 3000 | G43: 2500
B44: J24 | C44: 2500 | D44: 18000 | E44: ― | F44: ― | G44: ―

Sheet 改訂履歴 
B2: 改訂履歴 | C2: 改訂履歴
B3: rev | C3: 改訂日 | D3: 改訂内容
B4: 0 | C4: 45992 | D4: ・初版リリース
B5: 1 | C5: 46073 | D5: ・市街地域名の記載を廃止した ・作成の目的と記載上の注意事項を追加した ・１シート10品、計３シート30品まで記載できるようにした ・データ処理用に一部の体裁を変更した

Sheet 集計用
B2: No. | C2: 返礼品名称 | D2: 商品価格 | E2: 一般販売価格 | F2: 市外合計 | G2: 市内合計 | H2: 市内割合
A3: 6 | B3: 1 | C3: {=INDIRECT("'様式3-1 付加価値の算出表(No.1～10)'!$C$"&A3)} -> 0 | D3: {=INDIRECT("'様式3-1 付加価値の算出表(No.1～10)'!$I$"&A3-1)} -> 0 | E3: {=INDIRECT("'様式3-1 付加価値の算出表(No.1～10)'!$I$"&A3)} -> 0 | F3: {=INDIRECT("'様式3-1 付加価値の算出表(No.1～10)'!$I$"&A3+11)} -> 0 | G3: {=INDIRECT("'様式3-1 付加価値の算出表(No.1～10)'!$I$"&A3+12)} -> 0 | H3: =G3/D3 -> #DIV/0!
A4: =A3+20 -> 26 | B4: 2 | C4: {=INDIRECT("'様式3-1 付加価値の算出表(No.1～10)'!$C$"&A4)} -> 0 | D4: {=INDIRECT("'様式3-1 付加価値の算出表(No.1～10)'!$I$"&A4-1)} -> 0 | E4: {=INDIRECT("'様式3-1 付加価値の算出表(No.1～10)'!$I$"&A4)} -> 0 | F4: {=INDIRECT("'様式3-1 付加価値の算出表(No.1～10)'!$I$"&A4+11)} -> 0 | G4: {=INDIRECT("'様式3-1 付加価値の算出表(No.1～10)'!$I$"&A4+12)} -> 0 | H4: =G4/D4 -> #DIV/0!
A5: 49 | B5: 3 | C5: {=INDIRECT("'様式3-1 付加価値の算出表(No.1～10)'!$C$"&A5)} -> 0 | D5: {=INDIRECT("'様式3-1 付加価値の算出表(No.1～10)'!$I$"&A5-1)} -> 0 | E5: {=INDIRECT("'様式3-1 付加価値の算出表(No.1～10)'!$I$"&A5)} -> 0 | F5: {=INDIRECT("'様式3-1 付加価値の算出表(No.1～10)'!$I$"&A5+11)} -> 0 | G5: {=INDIRECT("'様式3-1 付加価値の算出表(No.1～10)'!$I$"&A5+12)} -> 0 | H5: =G5/D5 -> #DIV/0!
A6: =A5+20 -> 69 | B6: 4 | C6: {=INDIRECT("'様式3-1 付加価値の算出表(No.1～10)'!$C$"&A6)} -> 0 | D6: {=INDIRECT("'様式3-1 付加価値の算出表(No.1～10)'!$I$"&A6-1)} -> 0 | E6: {=INDIRECT("'様式3-1 付加価値の算出表(No.1～10)'!$I$"&A6)} -> 0 | F6: {=INDIRECT("'様式3-1 付加価値の算出表(No.1～10)'!$I$"&A6+11)} -> 0 | G6: {=INDIRECT("'様式3-1 付加価値の算出表(No.1～10)'!$I$"&A6+12)} -> 0 | H6: =G6/D6 -> #DIV/0!
A7: 92 | B7: 5 | C7: {=INDIRECT("'様式3-1 付加価値の算出表(No.1～10)'!$C$"&A7)} -> 0 | D7: {=INDIRECT("'様式3-1 付加価値の算出表(No.1～10)'!$I$"&A7-1)} -> 0 | E7: {=INDIRECT("'様式3-1 付加価値の算出表(No.1～10)'!$I$"&A7)} -> 0 | F7: {=INDIRECT("'様式3-1 付加価値の算出表(No.1～10)'!$I$"&A7+11)} -> 0 | G7: {=INDIRECT("'様式3-1 付加価値の算出表(No.1～10)'!$I$"&A7+12)} -> 0 | H7: =G7/D7 -> #DIV/0!
A8: =A7+20 -> 112 | B8: 6 | C8: {=INDIRECT("'様式3-1 付加価値の算出表(No.1～10)'!$C$"&A8)} -> 0 | D8: {=INDIRECT("'様式3-1 付加価値の算出表(No.1～10)'!$I$"&A8-1)} -> 0 | E8: {=INDIRECT("'様式3-1 付加価値の算出表(No.1～10)'!$I$"&A8)} -> 0 | F8: {=INDIRECT("'様式3-1 付加価値の算出表(No.1～10)'!$I$"&A8+11)} -> 0 | G8: {=INDIRECT("'様式3-1 付加価値の算出表(No.1～10)'!$I$"&A8+12)} -> 0 | H8: =G8/D8 -> #DIV/0!
A9: 135 | B9: 7 | C9: {=INDIRECT("'様式3-1 付加価値の算出表(No.1～10)'!$C$"&A9)} -> 0 | D9: {=INDIRECT("'様式3-1 付加価値の算出表(No.1～10)'!$I$"&A9-1)} -> 0 | E9: {=INDIRECT("'様式3-1 付加価値の算出表(No.1～10)'!$I$"&A9)} -> 0 | F9: {=INDIRECT("'様式3-1 付加価値の算出表(No.1～10)'!$I$"&A9+11)} -> 0 | G9: {=INDIRECT("'様式3-1 付加価値の算出表(No.1～10)'!$I$"&A9+12)} -> 0 | H9: =G9/D9 -> #DIV/0!
A10: =A9+20 -> 155 | B10: 8 | C10: {=INDIRECT("'様式3-1 付加価値の算出表(No.1～10)'!$C$"&A10)} -> 0 | D10: {=INDIRECT("'様式3-1 付加価値の算出表(No.1～10)'!$I$"&A10-1)} -> 0 | E10: {=INDIRECT("'様式3-1 付加価値の算出表(No.1～10)'!$I$"&A10)} -> 0 | F10: {=INDIRECT("'様式3-1 付加価値の算出表(No.1～10)'!$I$"&A10+11)} -> 0 | G10: {=INDIRECT("'様式3-1 付加価値の算出表(No.1～10)'!$I$"&A10+12)} -> 0 | H10: =G10/D10 -> #DIV/0!
A11: 178 | B11: 9 | C11: {=INDIRECT("'様式3-1 付加価値の算出表(No.1～10)'!$C$"&A11)} -> 0 | D11: {=INDIRECT("'様式3-1 付加価値の算出表(No.1～10)'!$I$"&A11-1)} -> 0 | E11: {=INDIRECT("'様式3-1 付加価値の算出表(No.1～10)'!$I$"&A11)} -> 0 | F11: {=INDIRECT("'様式3-1 付加価値の算出表(No.1～10)'!$I$"&A11+11)} -> 0 | G11: {=INDIRECT("'様式3-1 付加価値の算出表(No.1～10)'!$I$"&A11+12)} -> 0 | H11: =G11/D11 -> #DIV/0!
A12: =A11+20 -> 198 | B12: 10 | C12: {=INDIRECT("'様式3-1 付加価値の算出表(No.1～10)'!$C$"&A12)} -> 0 | D12: {=INDIRECT("'様式3-1 付加価値の算出表(No.1～10)'!$I$"&A12-1)} -> 0 | E12: {=INDIRECT("'様式3-1 付加価値の算出表(No.1～10)'!$I$"&A12)} -> 0 | F12: {=INDIRECT("'様式3-1 付加価値の算出表(No.1～10)'!$I$"&A12+11)} -> 0 | G12: {=INDIRECT("'様式3-1 付加価値の算出表(No.1～10)'!$I$"&A12+12)} -> 0 | H12: =G12/D12 -> #DIV/0!
A13: 6 | B13: 11 | C13: {=INDIRECT("'様式3-1 付加価値の算出表(No.11～20)'!$C$"&A13)} -> 0 | D13: {=INDIRECT("'様式3-1 付加価値の算出表(No.11～20)'!$I$"&A13-1)} -> 0 | E13: {=INDIRECT("'様式3-1 付加価値の算出表(No.11～20)'!$I$"&A13)} -> 0 | F13: {=INDIRECT("'様式3-1 付加価値の算出表(No.11～20)'!$I$"&A13+11)} -> 0 | G13: {=INDIRECT("'様式3-1 付加価値の算出表(No.11～20)'!$I$"&A13+12)} -> 0 | H13: =G13/D13 -> #DIV/0!
A14: =A13+20 -> 26 | B14: 12 | C14: {=INDIRECT("'様式3-1 付加価値の算出表(No.11～20)'!$C$"&A14)} -> 0 | D14: {=INDIRECT("'様式3-1 付加価値の算出表(No.11～20)'!$I$"&A14-1)} -> 0 | E14: {=INDIRECT("'様式3-1 付加価値の算出表(No.11～20)'!$I$"&A14)} -> 0 | F14: {=INDIRECT("'様式3-1 付加価値の算出表(No.11～20)'!$I$"&A14+11)} -> 0 | G14: {=INDIRECT("'様式3-1 付加価値の算出表(No.11～20)'!$I$"&A14+12)} -> 0 | H14: =G14/D14 -> #DIV/0!
A15: 49 | B15: 13 | C15: {=INDIRECT("'様式3-1 付加価値の算出表(No.11～20)'!$C$"&A15)} -> 0 | D15: {=INDIRECT("'様式3-1 付加価値の算出表(No.11～20)'!$I$"&A15-1)} -> 0 | E15: {=INDIRECT("'様式3-1 付加価値の算出表(No.11～20)'!$I$"&A15)} -> 0 | F15: {=INDIRECT("'様式3-1 付加価値の算出表(No.11～20)'!$I$"&A15+11)} -> 0 | G15: {=INDIRECT("'様式3-1 付加価値の算出表(No.11～20)'!$I$"&A15+12)} -> 0 | H15: =G15/D15 -> #DIV/0!
A16: =A15+20 -> 69 | B16: 14 | C16: {=INDIRECT("'様式3-1 付加価値の算出表(No.11～20)'!$C$"&A16)} -> 0 | D16: {=INDIRECT("'様式3-1 付加価値の算出表(No.11～20)'!$I$"&A16-1)} -> 0 | E16: {=INDIRECT("'様式3-1 付加価値の算出表(No.11～20)'!$I$"&A16)} -> 0 | F16: {=INDIRECT("'様式3-1 付加価値の算出表(No.11～20)'!$I$"&A16+11)} -> 0 | G16: {=INDIRECT("'様式3-1 付加価値の算出表(No.11～20)'!$I$"&A16+12)} -> 0 | H16: =G16/D16 -> #DIV/0!
A17: 92 | B17: 15 | C17: {=INDIRECT("'様式3-1 付加価値の算出表(No.11～20)'!$C$"&A17)} -> 0 | D17: {=INDIRECT("'様式3-1 付加価値の算出表(No.11～20)'!$I$"&A17-1)} -> 0 | E17: {=INDIRECT("'様式3-1 付加価値の算出表(No.11～20)'!$I$"&A17)} -> 0 | F17: {=INDIRECT("'様式3-1 付加価値の算出表(No.11～20)'!$I$"&A17+11)} -> 0 | G17: {=INDIRECT("'様式3-1 付加価値の算出表(No.11～20)'!$I$"&A17+12)} -> 0 | H17: =G17/D17 -> #DIV/0!
A18: =A17+20 -> 112 | B18: 16 | C18: {=INDIRECT("'様式3-1 付加価値の算出表(No.11～20)'!$C$"&A18)} -> 0 | D18: {=INDIRECT("'様式3-1 付加価値の算出表(No.11～20)'!$I$"&A18-1)} -> 0 | E18: {=INDIRECT("'様式3-1 付加価値の算出表(No.11～20)'!$I$"&A18)} -> 0 | F18: {=INDIRECT("'様式3-1 付加価値の算出表(No.11～20)'!$I$"&A18+11)} -> 0 | G18: {=INDIRECT("'様式3-1 付加価値の算出表(No.11～20)'!$I$"&A18+12)} -> 0 | H18: =G18/D18 -> #DIV/0!
A19: 135 | B19: 17 | C19: {=INDIRECT("'様式3-1 付加価値の算出表(No.11～20)'!$C$"&A19)} -> 0 | D19: {=INDIRECT("'様式3-1 付加価値の算出表(No.11～20)'!$I$"&A19-1)} -> 0 | E19: {=INDIRECT("'様式3-1 付加価値の算出表(No.11～20)'!$I$"&A19)} -> 0 | F19: {=INDIRECT("'様式3-1 付加価値の算出表(No.11～20)'!$I$"&A19+11)} -> 0 | G19: {=INDIRECT("'様式3-1 付加価値の算出表(No.11～20)'!$I$"&A19+12)} -> 0 | H19: =G19/D19 -> #DIV/0!
A20: =A19+20 -> 155 | B20: 18 | C20: {=INDIRECT("'様式3-1 付加価値の算出表(No.11～20)'!$C$"&A20)} -> 0 | D20: {=INDIRECT("'様式3-1 付加価値の算出表(No.11～20)'!$I$"&A20-1)} -> 0 | E20: {=INDIRECT("'様式3-1 付加価値の算出表(No.11～20)'!$I$"&A20)} -> 0 | F20: {=INDIRECT("'様式3-1 付加価値の算出表(No.11～20)'!$I$"&A20+11)} -> 0 | G20: {=INDIRECT("'様式3-1 付加価値の算出表(No.11～20)'!$I$"&A20+12)} -> 0 | H20: =G20/D20 -> #DIV/0!
A21: 178 | B21: 19 | C21: {=INDIRECT("'様式3-1 付加価値の算出表(No.11～20)'!$C$"&A21)} -> 0 | D21: {=INDIRECT("'様式3-1 付加価値の算出表(No.11～20)'!$I$"&A21-1)} -> 0 | E21: {=INDIRECT("'様式3-1 付加価値の算出表(No.11～20)'!$I$"&A21)} -> 0 | F21: {=INDIRECT("'様式3-1 付加価値の算出表(No.11～20)'!$I$"&A21+11)} -> 0 | G21: {=INDIRECT("'様式3-1 付加価値の算出表(No.11～20)'!$I$"&A21+12)} -> 0 | H21: =G21/D21 -> #DIV/0!
A22: =A21+20 -> 198 | B22: 20 | C22: {=INDIRECT("'様式3-1 付加価値の算出表(No.11～20)'!$C$"&A22)} -> 0 | D22: {=INDIRECT("'様式3-1 付加価値の算出表(No.11～20)'!$I$"&A22-1)} -> 0 | E22: {=INDIRECT("'様式3-1 付加価値の算出表(No.11～20)'!$I$"&A22)} -> 0 | F22: {=INDIRECT("'様式3-1 付加価値の算出表(No.11～20)'!$I$"&A22+11)} -> 0 | G22: {=INDIRECT("'様式3-1 付加価値の算出表(No.11～20)'!$I$"&A22+12)} -> 0 | H22: =G22/D22 -> #DIV/0!
A23: 6 | B23: 21 | C23: {=INDIRECT("'様式3-1 付加価値の算出表(No.21～30)'!$C$"&A23)} -> 0 | D23: {=INDIRECT("'様式3-1 付加価値の算出表(No.21～30)'!$I$"&A23-1)} -> 0 | E23: {=INDIRECT("'様式3-1 付加価値の算出表(No.21～30)'!$I$"&A23)} -> 0 | F23: {=INDIRECT("'様式3-1 付加価値の算出表(No.21～30)'!$I$"&A23+11)} -> 0 | G23: {=INDIRECT("'様式3-1 付加価値の算出表(No.21～30)'!$I$"&A23+12)} -> 0 | H23: =G23/D23 -> #DIV/0!
A24: =A23+20 -> 26 | B24: 22 | C24: {=INDIRECT("'様式3-1 付加価値の算出表(No.21～30)'!$C$"&A24)} -> 0 | D24: {=INDIRECT("'様式3-1 付加価値の算出表(No.21～30)'!$I$"&A24-1)} -> 0 | E24: {=INDIRECT("'様式3-1 付加価値の算出表(No.21～30)'!$I$"&A24)} -> 0 | F24: {=INDIRECT("'様式3-1 付加価値の算出表(No.21～30)'!$I$"&A24+11)} -> 0 | G24: {=INDIRECT("'様式3-1 付加価値の算出表(No.21～30)'!$I$"&A24+12)} -> 0 | H24: =G24/D24 -> #DIV/0!
A25: 49 | B25: 23 | C25: {=INDIRECT("'様式3-1 付加価値の算出表(No.21～30)'!$C$"&A25)} -> 0 | D25: {=INDIRECT("'様式3-1 付加価値の算出表(No.21～30)'!$I$"&A25-1)} -> 0 | E25: {=INDIRECT("'様式3-1 付加価値の算出表(No.21～30)'!$I$"&A25)} -> 0 | F25: {=INDIRECT("'様式3-1 付加価値の算出表(No.21～30)'!$I$"&A25+11)} -> 0 | G25: {=INDIRECT("'様式3-1 付加価値の算出表(No.21～30)'!$I$"&A25+12)} -> 0 | H25: =G25/D25 -> #DIV/0!
A26: =A25+20 -> 69 | B26: 24 | C26: {=INDIRECT("'様式3-1 付加価値の算出表(No.21～30)'!$C$"&A26)} -> 0 | D26: {=INDIRECT("'様式3-1 付加価値の算出表(No.21～30)'!$I$"&A26-1)} -> 0 | E26: {=INDIRECT("'様式3-1 付加価値の算出表(No.21～30)'!$I$"&A26)} -> 0 | F26: {=INDIRECT("'様式3-1 付加価値の算出表(No.21～30)'!$I$"&A26+11)} -> 0 | G26: {=INDIRECT("'様式3-1 付加価値の算出表(No.21～30)'!$I$"&A26+12)} -> 0 | H26: =G26/D26 -> #DIV/0!
A27: 92 | B27: 25 | C27: {=INDIRECT("'様式3-1 付加価値の算出表(No.21～30)'!$C$"&A27)} -> 0 | D27: {=INDIRECT("'様式3-1 付加価値の算出表(No.21～30)'!$I$"&A27-1)} -> 0 | E27: {=INDIRECT("'様式3-1 付加価値の算出表(No.21～30)'!$I$"&A27)} -> 0 | F27: {=INDIRECT("'様式3-1 付加価値の算出表(No.21～30)'!$I$"&A27+11)} -> 0 | G27: {=INDIRECT("'様式3-1 付加価値の算出表(No.21～30)'!$I$"&A27+12)} -> 0 | H27: =G27/D27 -> #DIV/0!
A28: =A27+20 -> 112 | B28: 26 | C28: {=INDIRECT("'様式3-1 付加価値の算出表(No.21～30)'!$C$"&A28)} -> 0 | D28: {=INDIRECT("'様式3-1 付加価値の算出表(No.21～30)'!$I$"&A28-1)} -> 0 | E28: {=INDIRECT("'様式3-1 付加価値の算出表(No.21～30)'!$I$"&A28)} -> 0 | F28: {=INDIRECT("'様式3-1 付加価値の算出表(No.21～30)'!$I$"&A28+11)} -> 0 | G28: {=INDIRECT("'様式3-1 付加価値の算出表(No.21～30)'!$I$"&A28+12)} -> 0 | H28: =G28/D28 -> #DIV/0!
A29: 135 | B29: 27 | C29: {=INDIRECT("'様式3-1 付加価値の算出表(No.21～30)'!$C$"&A29)} -> 0 | D29: {=INDIRECT("'様式3-1 付加価値の算出表(No.21～30)'!$I$"&A29-1)} -> 0 | E29: {=INDIRECT("'様式3-1 付加価値の算出表(No.21～30)'!$I$"&A29)} -> 0 | F29: {=INDIRECT("'様式3-1 付加価値の算出表(No.21～30)'!$I$"&A29+11)} -> 0 | G29: {=INDIRECT("'様式3-1 付加価値の算出表(No.21～30)'!$I$"&A29+12)} -> 0 | H29: =G29/D29 -> #DIV/0!
A30: =A29+20 -> 155 | B30: 28 | C30: {=INDIRECT("'様式3-1 付加価値の算出表(No.21～30)'!$C$"&A30)} -> 0 | D30: {=INDIRECT("'様式3-1 付加価値の算出表(No.21～30)'!$I$"&A30-1)} -> 0 | E30: {=INDIRECT("'様式3-1 付加価値の算出表(No.21～30)'!$I$"&A30)} -> 0 | F30: {=INDIRECT("'様式3-1 付加価値の算出表(No.21～30)'!$I$"&A30+11)} -> 0 | G30: {=INDIRECT("'様式3-1 付加価値の算出表(No.21～30)'!$I$"&A30+12)} -> 0 | H30: =G30/D30 -> #DIV/0!
A31: 178 | B31: 29 | C31: {=INDIRECT("'様式3-1 付加価値の算出表(No.21～30)'!$C$"&A31)} -> 0 | D31: {=INDIRECT("'様式3-1 付加価値の算出表(No.21～30)'!$I$"&A31-1)} -> 0 | E31: {=INDIRECT("'様式3-1 付加価値の算出表(No.21～30)'!$I$"&A31)} -> 0 | F31: {=INDIRECT("'様式3-1 付加価値の算出表(No.21～30)'!$I$"&A31+11)} -> 0 | G31: {=INDIRECT("'様式3-1 付加価値の算出表(No.21～30)'!$I$"&A31+12)} -> 0 | H31: =G31/D31 -> #DIV/0!
A32: =A31+20 -> 198 | B32: 30 | C32: {=INDIRECT("'様式3-1 付加価値の算出表(No.21～30)'!$C$"&A32)} -> 0 | D32: {=INDIRECT("'様式3-1 付加価値の算出表(No.21～30)'!$I$"&A32-1)} -> 0 | E32: {=INDIRECT("'様式3-1 付加価値の算出表(No.21～30)'!$I$"&A32)} -> 0 | F32: {=INDIRECT("'様式3-1 付加価値の算出表(No.21～30)'!$I$"&A32+11)} -> 0 | G32: {=INDIRECT("'様式3-1 付加価値の算出表(No.21～30)'!$I$"&A32+12)} -> 0 | H32: =G32/D32 -> #DIV/0!
